BEGIN:VCALENDAR
VERSION:2.0
PRODID:-//DC Seminars - ECPv6.15.20//NONSGML v1.0//EN
CALSCALE:GREGORIAN
METHOD:PUBLISH
X-WR-CALNAME:DC Seminars
X-ORIGINAL-URL:https://dcseminars.com
X-WR-CALDESC:Events for DC Seminars
REFRESH-INTERVAL;VALUE=DURATION:PT1H
X-Robots-Tag:noindex
X-PUBLISHED-TTL:PT1H
BEGIN:VTIMEZONE
TZID:America/Los_Angeles
BEGIN:DAYLIGHT
TZOFFSETFROM:-0800
TZOFFSETTO:-0700
TZNAME:PDT
DTSTART:20200308T100000
END:DAYLIGHT
BEGIN:STANDARD
TZOFFSETFROM:-0700
TZOFFSETTO:-0800
TZNAME:PST
DTSTART:20201101T090000
END:STANDARD
BEGIN:DAYLIGHT
TZOFFSETFROM:-0800
TZOFFSETTO:-0700
TZNAME:PDT
DTSTART:20210314T100000
END:DAYLIGHT
BEGIN:STANDARD
TZOFFSETFROM:-0700
TZOFFSETTO:-0800
TZNAME:PST
DTSTART:20211107T090000
END:STANDARD
BEGIN:DAYLIGHT
TZOFFSETFROM:-0800
TZOFFSETTO:-0700
TZNAME:PDT
DTSTART:20220313T100000
END:DAYLIGHT
BEGIN:STANDARD
TZOFFSETFROM:-0700
TZOFFSETTO:-0800
TZNAME:PST
DTSTART:20221106T090000
END:STANDARD
END:VTIMEZONE
BEGIN:VEVENT
DTSTART;VALUE=DATE:20210220
DTEND;VALUE=DATE:20210222
DTSTAMP:20260425T132139
CREATED:20210124T145316Z
LAST-MODIFIED:20210124T145316Z
UID:3834-1613779200-1613951999@dcseminars.com
SUMMARY:Coding\, Compliance & Documentation in Chiropractic - Includes 8 Hours In Medicare Training
DESCRIPTION:Saturday: 9:00am – 5:00pm (Central Time)\nSunday: 9:00am – 5:00pm (Central Time) \nLive Webinar – 16 Hours \nCONTINUING EDUCATION NOTICE \nNOTE: This seminar is a LIVE webinar. Live webinars are accepted in Texas and other states for all 16 hours of CE credit.  Other states\, such as CA\, consider live webinars to be distant learning.   \nDuring Covid\, many states are accepting all online courses as LIVE CE courses.  Please check with your state licensing agency. \nCE APPROVAL: This seminar has been approved for 16 hours of CE credit by the TBCE\, including the 4 required TBCE hours and 8 Medicare hours. This seminar is accepted for CE credit in Idaho\, Ohio\, Colorado\, Oregon and Washington state.  Be sure to check your state board requirements. \nHOW MANY HOURS CAN I ATTEND: You can take 4\, 8 or 16 hours. To take less than the full seminar\, enter one of the following PROMO CODES: \n4 TBCE HOURS: TBCE \n6 HOURS:  SIX \n8 HOURS:  EIGHT \nCO-SPONSOR: The seminar is co-sponsored by the National Chiropractic Association (NCA).
URL:https://dcseminars.com/event/coding-compliance-documentation-in-chiropractic-includes-8-medicare-hours-3/
END:VEVENT
BEGIN:VEVENT
DTSTART;VALUE=DATE:20210227
DTEND;VALUE=DATE:20210301
DTSTAMP:20260425T132139
CREATED:20210124T150122Z
LAST-MODIFIED:20210124T150122Z
UID:3840-1614384000-1614556799@dcseminars.com
SUMMARY:Coding\, Compliance & Documentation in Chiropractic - Includes 8 Hours In Medicare Training
DESCRIPTION:Saturday: 9:00am – 5:00pm (Central Time)\nSunday: 9:00am – 5:00pm (Central Time) \nLive Webinar – 16 Hours \nCONTINUING EDUCATION NOTICE \nNOTE: This seminar is a LIVE webinar. Live webinars are accepted in Texas and other states for all 16 hours of CE credit.  Other states\, such as CA\, consider live webinars to be distant learning.   \nDuring Covid\, many states are accepting all online courses as LIVE CE courses.  Please check with your state licensing agency. \nCE APPROVAL: This seminar has been approved for 16 hours of CE credit by the TBCE\, including the 4 required TBCE hours and 8 Medicare hours. This seminar is accepted for CE credit in Idaho\, Ohio\, Colorado\, Oregon and Washington state.  Be sure to check your state board requirements. \nHOW MANY HOURS CAN I ATTEND: You can take 4\, 8 or 16 hours. To take less than the full seminar\, enter one of the following PROMO CODES: \n4 TBCE HOURS: TBCE \n6 HOURS:  SIX \n8 HOURS:  EIGHT \nCO-SPONSOR: The seminar is co-sponsored by the National Chiropractic Association (NCA).
URL:https://dcseminars.com/event/coding-compliance-documentation-in-chiropractic-includes-8-hours-in-medicare-training/
END:VEVENT
END:VCALENDAR