BEGIN:VCALENDAR
VERSION:2.0
PRODID:-//DC Seminars - ECPv6.15.20//NONSGML v1.0//EN
CALSCALE:GREGORIAN
METHOD:PUBLISH
X-ORIGINAL-URL:https://dcseminars.com
X-WR-CALDESC:Events for DC Seminars
REFRESH-INTERVAL;VALUE=DURATION:PT1H
X-Robots-Tag:noindex
X-PUBLISHED-TTL:PT1H
BEGIN:VTIMEZONE
TZID:America/Los_Angeles
BEGIN:DAYLIGHT
TZOFFSETFROM:-0800
TZOFFSETTO:-0700
TZNAME:PDT
DTSTART:20200308T100000
END:DAYLIGHT
BEGIN:STANDARD
TZOFFSETFROM:-0700
TZOFFSETTO:-0800
TZNAME:PST
DTSTART:20201101T090000
END:STANDARD
BEGIN:DAYLIGHT
TZOFFSETFROM:-0800
TZOFFSETTO:-0700
TZNAME:PDT
DTSTART:20210314T100000
END:DAYLIGHT
BEGIN:STANDARD
TZOFFSETFROM:-0700
TZOFFSETTO:-0800
TZNAME:PST
DTSTART:20211107T090000
END:STANDARD
BEGIN:DAYLIGHT
TZOFFSETFROM:-0800
TZOFFSETTO:-0700
TZNAME:PDT
DTSTART:20220313T100000
END:DAYLIGHT
BEGIN:STANDARD
TZOFFSETFROM:-0700
TZOFFSETTO:-0800
TZNAME:PST
DTSTART:20221106T090000
END:STANDARD
END:VTIMEZONE
BEGIN:VEVENT
DTSTART;VALUE=DATE:20210717
DTEND;VALUE=DATE:20210719
DTSTAMP:20260425T054605
CREATED:20210607T222430Z
LAST-MODIFIED:20210607T222430Z
UID:3987-1626480000-1626652799@dcseminars.com
SUMMARY:Coding\, Compliance & Documentation in Chiropractic - Includes Medicare Training
DESCRIPTION:Saturday: 9:00am – 5:00pm (Central Time)\nSunday: 9:00am – 5:00pm (Central Time) \nLive Webinar – 16 Hours \nCONTINUING EDUCATION NOTICE \nNOTE: This seminar is a LIVE webinar. Live webinars are accepted in Texas and other states for all 16 hours of CE credit.   \nDuring Covid\, many states are accepting all online courses as LIVE CE courses.  Please check with your state licensing agency. \nCE APPROVAL: This seminar has been approved for 16 hours of CE credit by the TBCE\, including the 4 required TBCE hours and 8 Medicare hours.  \nThis seminar is accepted for CE credit in Idaho\, Ohio\, Colorado\, Oregon and Washington state.  Be sure to check your state board requirements. \nHOW MANY HOURS CAN I ATTEND?: You can take 4\, 8 or 16 hours.  \nTo take less than the full seminar\, enter one of the following PROMO CODES: \n4 TBCE HOURS: TBCE \n6 HOURS:  SIX \n8 HOURS:  EIGHT
URL:https://dcseminars.com/event/coding-compliance-documentation-in-chiropractic-includes-medicare-training-3/
END:VEVENT
BEGIN:VEVENT
DTSTART;VALUE=DATE:20210724
DTEND;VALUE=DATE:20210726
DTSTAMP:20260425T054605
CREATED:20210607T222434Z
LAST-MODIFIED:20210607T222434Z
UID:3992-1627084800-1627257599@dcseminars.com
SUMMARY:Whiplash: Medical Factors That Influence the Settlement Value of Personal Injury Cases (16 Hour Webinar)
DESCRIPTION:LIVE WEBINAR\nSaturday – 9:00am – 5:00pm (Central Time)\nSunday – 9:00am – 5:00pm (Central Time)\n \nSPEAKERS: John Schmidt\, DC  \nCONTINUING EDUCATION NOTICE \nThis seminar is a LIVE webinar broadcast. Live webinar broadcasts are accepted in many states for CE credit just as if you had attended a live seminar in person. However\, some states consider live webinars to be classified as online or distant learning.  Be sure to check with individual state boards or contact Dr. Schmidt at johnschmidtdc@gmail.com \nWEBINAR LINK: You will be sent a link the day BEFORE and the day of the webinar.   \nHOW TO VIEW: It is strongly recommended that you view the webinar from a computer that has a direct connection to the internet using either the Chrome or Firefox browser.  There are no guarantees that a tablet or phone will broadcast the webinar without interruption. \nSEMINAR NOTES: All notes will be available as a downloadable attachment on the day the webinar and/or from our website. \nCE APPROVAL: This seminar has been applied for 16 hours of CE credit by the TBCE\, including the 4 required TBCE hours. This seminar is accepted for up to 16 hours of CE credit in Idaho\, Ohio\, Colorado\, Oregon and Washington state. \nCE LETTERS OF ATTENDANCE:  Letters of attendance for Texas doctors will be sent directly from the co-sponsor within 30 days.  All other letters will be mailed by our office within 30 days of attendance. \nHOW MANY HOURS CAN I ATTEND?: You can take 4\, 8 or 16 hours.  \nTo take less than the full seminar\, enter one of the following PROMO CODES: \n4 TBCE HOURS: TBCE \n6 HOURS:  SIX \n8 HOURS:  EIGHT
URL:https://dcseminars.com/event/whiplash-medical-factors-that-influence-the-settlement-value-of-personal-injury-cases-16-hour-webinar-10/
END:VEVENT
BEGIN:VEVENT
DTSTART;VALUE=DATE:20210730
DTEND;VALUE=DATE:20210801
DTSTAMP:20260425T054605
CREATED:20210607T222451Z
LAST-MODIFIED:20210607T222451Z
UID:3990-1627603200-1627775999@dcseminars.com
SUMMARY:Coding\, Compliance & Documentation in Chiropractic - Includes Medicare Training
DESCRIPTION:Saturday: 9:00am – 5:00pm (Central Time)\nSunday: 9:00am – 5:00pm (Central Time) \nLive Webinar – 16 Hours \nCONTINUING EDUCATION NOTICE \nNOTE: This seminar is a LIVE webinar. Live webinars are accepted in Texas and other states for all 16 hours of CE credit.   \nDuring Covid\, many states are accepting all online courses as LIVE CE courses.  Please check with your state licensing agency. \nCE APPROVAL: This seminar has been approved for 16 hours of CE credit by the TBCE\, including the 4 required TBCE hours and 8 Medicare hours.  \nThis seminar is accepted for CE credit in Idaho\, Ohio\, Colorado\, Oregon and Washington state.  Be sure to check your state board requirements. \nHOW MANY HOURS CAN I ATTEND?: You can take 4\, 8 or 16 hours.  \nTo take less than the full seminar\, enter one of the following PROMO CODES: \n4 TBCE HOURS: TBCE \n6 HOURS:  SIX \n8 HOURS:  EIGHT
URL:https://dcseminars.com/event/coding-compliance-documentation-in-chiropractic-includes-medicare-training-5/
END:VEVENT
END:VCALENDAR