BEGIN:VCALENDAR
VERSION:2.0
PRODID:-//DC Seminars - ECPv6.15.20//NONSGML v1.0//EN
CALSCALE:GREGORIAN
METHOD:PUBLISH
X-ORIGINAL-URL:https://dcseminars.com
X-WR-CALDESC:Events for DC Seminars
REFRESH-INTERVAL;VALUE=DURATION:PT1H
X-Robots-Tag:noindex
X-PUBLISHED-TTL:PT1H
BEGIN:VTIMEZONE
TZID:America/Los_Angeles
BEGIN:DAYLIGHT
TZOFFSETFROM:-0800
TZOFFSETTO:-0700
TZNAME:PDT
DTSTART:20210314T100000
END:DAYLIGHT
BEGIN:STANDARD
TZOFFSETFROM:-0700
TZOFFSETTO:-0800
TZNAME:PST
DTSTART:20211107T090000
END:STANDARD
BEGIN:DAYLIGHT
TZOFFSETFROM:-0800
TZOFFSETTO:-0700
TZNAME:PDT
DTSTART:20220313T100000
END:DAYLIGHT
BEGIN:STANDARD
TZOFFSETFROM:-0700
TZOFFSETTO:-0800
TZNAME:PST
DTSTART:20221106T090000
END:STANDARD
BEGIN:DAYLIGHT
TZOFFSETFROM:-0800
TZOFFSETTO:-0700
TZNAME:PDT
DTSTART:20230312T100000
END:DAYLIGHT
BEGIN:STANDARD
TZOFFSETFROM:-0700
TZOFFSETTO:-0800
TZNAME:PST
DTSTART:20231105T090000
END:STANDARD
END:VTIMEZONE
BEGIN:VEVENT
DTSTART;VALUE=DATE:20220312
DTEND;VALUE=DATE:20220314
DTSTAMP:20260424T175738
CREATED:20220203T175941Z
LAST-MODIFIED:20220428T223159Z
UID:4223-1647043200-1647215999@dcseminars.com
SUMMARY:Coding\, Compliance & Documentation in Chiropractic - (Live Webinar)
DESCRIPTION:Saturday: 9:00am – 5:00pm (Central Time)\nSunday: 9:00am – 5:00pm (Central Time) \nLive Webinar – 16 Hours \nCONTINUING EDUCATION NOTICE \nNOTE: This seminar is a LIVE webinar. Live webinars are accepted in Texas and other states for all or partial CE credit. \nDuring Covid\, many states are accepting online courses as LIVE CE courses. Please check with your state licensing agency. \nCE APPROVAL: This seminar has been approved for 16 hours of CE credit by the TBCE\, including the 4 required TBCE hours and 8 Medicare hours. \nThis seminar is accepted for CE credit in Colorado and all PACE approved states. Be sure to check your state board requirements. \nHOW MANY HOURS CAN I ATTEND?: You can take 4\, 8 or 16 hours. \nTo take less than the full seminar\, enter one of the following PROMO CODES: \n4 TBCE HOURS: FOUR \n8 HOURS:  EIGHT
URL:https://dcseminars.com/event/coding-compliance-documentation-in-chiropractic-live-webinar-031222/
CATEGORIES:Webinars
END:VEVENT
BEGIN:VEVENT
DTSTART;VALUE=DATE:20220319
DTEND;VALUE=DATE:20220321
DTSTAMP:20260424T175738
CREATED:20220203T181333Z
LAST-MODIFIED:20220428T223159Z
UID:4225-1647648000-1647820799@dcseminars.com
SUMMARY:Coding\, Compliance & Documentation in Chiropractic - (Live Webinar)
DESCRIPTION:Saturday: 9:00am – 5:00pm (Central Time)\nSunday: 9:00am – 5:00pm (Central Time) \nLive Webinar – 16 Hours \nCONTINUING EDUCATION NOTICE \nNOTE: This seminar is a LIVE webinar. Live webinars are accepted in Texas and other states for all or partial CE credit. \nDuring Covid\, many states are accepting online courses as LIVE CE courses. Please check with your state licensing agency. \nCE APPROVAL: This seminar has been approved for 16 hours of CE credit by the TBCE\, including the 4 required TBCE hours and 8 Medicare hours. \nThis seminar is accepted for CE credit in Colorado and all PACE approved states. Be sure to check your state board requirements. \nHOW MANY HOURS CAN I ATTEND?: You can take 4\, 8 or 16 hours. \nTo take less than the full seminar\, enter one of the following PROMO CODES: \n4 TBCE HOURS: FOUR \n8 HOURS:  EIGHT
URL:https://dcseminars.com/event/coding-compliance-documentation-in-chiropractic-live-webinar-031922/
CATEGORIES:Webinars
END:VEVENT
BEGIN:VEVENT
DTSTART;VALUE=DATE:20220326
DTEND;VALUE=DATE:20220328
DTSTAMP:20260424T175738
CREATED:20220209T002859Z
LAST-MODIFIED:20220428T223159Z
UID:3792-1648252800-1648425599@dcseminars.com
SUMMARY:Personal Injury: Coding\, Compliance and Documentation (Irving\, Texas)
DESCRIPTION:Hyatt Place – Irving Las Colinas\n5455 Green Park Drive\nIrving\, TX 75038-6924\n(972) 550-7400\nHotel Link \nSaturday – 9:00am – 6:00pm\nSunday – 9:00am – 6:00pm \n (Break for lunch at 1:00pm each day) \nSPEAKERS: John Schmidt\, DC  \nCONTINUING EDUCATION NOTICE \nCE APPROVAL: This seminar has been applied for 16 hours of CE credit by the TBCE\, including the 4 required TBCE hours. This seminar is accepted for up to 16 hours of CE credit in all PACE state. \nCE LETTERS OF ATTENDANCE:  Letters of attendance for Texas doctors will be sent directly from the co-sponsor within 30 days.   \nHOW MANY HOURS CAN I ATTEND: You can take 4\, 8 or 16 hours. To take less than the full seminar\, enter one of the following promo codes: \nPROMO CODE 4 TBCE HOURS ONLY: TBCE \nPROMO CODE FOR 6 HOURS ONLY: SIX \nPROMO CODE 8 HOURS ONLY: EIGHT \nCO-SPONSOR: The seminar is co-sponsored by the National Chiropractic Association (NCA).\n\n\n                \n                        Doctor AdmissionProduct Name Quantity(Required)Enter a Quantity from 1 to 5\n					\n					\n						Admission Price:\n						$397.00\n					\n					\n					 Quantity \n				Attending Doctors(Required)First NameLast NamePlease list all state abbreviations in which you are actively licensed\, separated by a comma (e.g. TX\, FL\, MT)For each state listed\, please enter your license number\, separated by a comma    Add   RemovePrimary Doctor Contact InformationEmail(Required)\n                            \n                        Phone(Required)Address(Required)    \n                    \n                         \n                                        \n                                        Street Address\n                                    \n                                        \n                                        Address Line 2\n                                    \n                                    \n                                    City\n                                 \n                                        AlabamaAlaskaAmerican SamoaArizonaArkansasCaliforniaColoradoConnecticutDelawareDistrict of ColumbiaFloridaGeorgiaGuamHawaiiIdahoIllinoisIndianaIowaKansasKentuckyLouisianaMaineMarylandMassachusettsMichiganMinnesotaMississippiMissouriMontanaNebraskaNevadaNew HampshireNew JerseyNew MexicoNew YorkNorth CarolinaNorth DakotaNorthern Mariana IslandsOhioOklahomaOregonPennsylvaniaPuerto RicoRhode IslandSouth CarolinaSouth DakotaTennesseeTexasUtahU.S. Virgin IslandsVermontVirginiaWashingtonWest VirginiaWisconsinWyomingArmed Forces AmericasArmed Forces EuropeArmed Forces Pacific\n                                        State\n                                      \n                                    \n                                    ZIP Code\n                                \n                    \n                CheckoutCoupon Total Registration Price\n							\n						Consent(Required) I agree to the Terms of Registration.Terms of Registration can be viewed by clicking here.Credit Card(Required)Card Details\n					\n					Cardholder Name
URL:https://dcseminars.com/event/whiplash-medical-factors-that-influence-the-settlement-value-of-personal-injury-cases-16-hour-webinar-13/
CATEGORIES:Webinars
END:VEVENT
END:VCALENDAR