BEGIN:VCALENDAR
VERSION:2.0
PRODID:-//DC Seminars - ECPv6.15.20//NONSGML v1.0//EN
CALSCALE:GREGORIAN
METHOD:PUBLISH
X-ORIGINAL-URL:https://dcseminars.com
X-WR-CALDESC:Events for DC Seminars
REFRESH-INTERVAL;VALUE=DURATION:PT1H
X-Robots-Tag:noindex
X-PUBLISHED-TTL:PT1H
BEGIN:VTIMEZONE
TZID:America/Los_Angeles
BEGIN:DAYLIGHT
TZOFFSETFROM:-0800
TZOFFSETTO:-0700
TZNAME:PDT
DTSTART:20210314T100000
END:DAYLIGHT
BEGIN:STANDARD
TZOFFSETFROM:-0700
TZOFFSETTO:-0800
TZNAME:PST
DTSTART:20211107T090000
END:STANDARD
BEGIN:DAYLIGHT
TZOFFSETFROM:-0800
TZOFFSETTO:-0700
TZNAME:PDT
DTSTART:20220313T100000
END:DAYLIGHT
BEGIN:STANDARD
TZOFFSETFROM:-0700
TZOFFSETTO:-0800
TZNAME:PST
DTSTART:20221106T090000
END:STANDARD
BEGIN:DAYLIGHT
TZOFFSETFROM:-0800
TZOFFSETTO:-0700
TZNAME:PDT
DTSTART:20230312T100000
END:DAYLIGHT
BEGIN:STANDARD
TZOFFSETFROM:-0700
TZOFFSETTO:-0800
TZNAME:PST
DTSTART:20231105T090000
END:STANDARD
END:VTIMEZONE
BEGIN:VEVENT
DTSTART;VALUE=DATE:20220409
DTEND;VALUE=DATE:20220411
DTSTAMP:20260424T161129
CREATED:20220203T184023Z
LAST-MODIFIED:20220428T223159Z
UID:4227-1649462400-1649635199@dcseminars.com
SUMMARY:Coding\, Compliance & Documentation in Chiropractic - (Live Webinar)
DESCRIPTION:Saturday: 9:00am – 5:00pm (Central Time)\nSunday: 9:00am – 5:00pm (Central Time) \nLive Webinar – 16 Hours \nCONTINUING EDUCATION NOTICE \nNOTE: This seminar is a LIVE webinar. Live webinars are accepted in Texas and other states for all or partial CE credit. \nDuring Covid\, many states are accepting online courses as LIVE CE courses. Please check with your state licensing agency. \nCE APPROVAL: This seminar has been approved for 16 hours of CE credit by the TBCE\, including the 4 required TBCE hours and 8 Medicare hours. \nThis seminar is accepted for CE credit in Colorado and all PACE approved states. Be sure to check your state board requirements. \nHOW MANY HOURS CAN I ATTEND?: You can take 4\, 8 or 16 hours. \nTo take less than the full seminar\, enter one of the following PROMO CODES: \n4 TBCE HOURS: FOUR \n8 HOURS:  EIGHT
URL:https://dcseminars.com/event/coding-compliance-documentation-in-chiropractic-live-webinar-040922/
CATEGORIES:Webinars
END:VEVENT
BEGIN:VEVENT
DTSTART;VALUE=DATE:20220423
DTEND;VALUE=DATE:20220425
DTSTAMP:20260424T161129
CREATED:20220203T184912Z
LAST-MODIFIED:20220428T223159Z
UID:4229-1650672000-1650844799@dcseminars.com
SUMMARY:Coding\, Compliance & Documentation in Chiropractic - (Live Webinar)
DESCRIPTION:Saturday: 9:00am – 5:00pm (Central Time)\nSunday: 9:00am – 5:00pm (Central Time) \nLive Webinar – 16 Hours \nCONTINUING EDUCATION NOTICE \nNOTE: This seminar is a LIVE webinar. Live webinars are accepted in Texas and other states for all or partial CE credit. \nDuring Covid\, many states are accepting online courses as LIVE CE courses. Please check with your state licensing agency. \nCE APPROVAL: This seminar has been approved for 16 hours of CE credit by the TBCE\, including the 4 required TBCE hours and 8 Medicare hours. \nThis seminar is accepted for CE credit in Colorado and all PACE approved states. Be sure to check your state board requirements. \nHOW MANY HOURS CAN I ATTEND?: You can take 4\, 8 or 16 hours. \nTo take less than the full seminar\, enter one of the following PROMO CODES: \n4 TBCE HOURS: FOUR \n8 HOURS:  EIGHT
URL:https://dcseminars.com/event/coding-compliance-documentation-in-chiropractic-live-webinar-042322/
CATEGORIES:Webinars
END:VEVENT
BEGIN:VEVENT
DTSTART;VALUE=DATE:20220429
DTEND;VALUE=DATE:20220501
DTSTAMP:20260424T161129
CREATED:20220203T185858Z
LAST-MODIFIED:20220428T223159Z
UID:4231-1651190400-1651363199@dcseminars.com
SUMMARY:Coding\, Compliance & Documentation in Chiropractic - (Live Webinar)
DESCRIPTION:Saturday: 9:00am – 5:00pm (Central Time)\nSunday: 9:00am – 5:00pm (Central Time) \nLive Webinar – 16 Hours \nCONTINUING EDUCATION NOTICE \nNOTE: This seminar is a LIVE webinar. Live webinars are accepted in Texas and other states for all or partial CE credit. \nDuring Covid\, many states are accepting online courses as LIVE CE courses. Please check with your state licensing agency. \nCE APPROVAL: This seminar has been approved for 16 hours of CE credit by the TBCE\, including the 4 required TBCE hours and 8 Medicare hours. \nThis seminar is accepted for CE credit in Colorado and all PACE approved states. Be sure to check your state board requirements. \nHOW MANY HOURS CAN I ATTEND?: You can take 4\, 8 or 16 hours. \nTo take less than the full seminar\, enter one of the following PROMO CODES: \n4 TBCE HOURS: FOUR \n8 HOURS:  EIGHT
URL:https://dcseminars.com/event/coding-compliance-documentation-in-chiropractic-live-webinar-042922/
CATEGORIES:Webinars
END:VEVENT
END:VCALENDAR