BEGIN:VCALENDAR
VERSION:2.0
PRODID:-//DC Seminars - ECPv6.15.20//NONSGML v1.0//EN
CALSCALE:GREGORIAN
METHOD:PUBLISH
X-ORIGINAL-URL:https://dcseminars.com
X-WR-CALDESC:Events for DC Seminars
REFRESH-INTERVAL;VALUE=DURATION:PT1H
X-Robots-Tag:noindex
X-PUBLISHED-TTL:PT1H
BEGIN:VTIMEZONE
TZID:America/Los_Angeles
BEGIN:DAYLIGHT
TZOFFSETFROM:-0800
TZOFFSETTO:-0700
TZNAME:PDT
DTSTART:20210314T100000
END:DAYLIGHT
BEGIN:STANDARD
TZOFFSETFROM:-0700
TZOFFSETTO:-0800
TZNAME:PST
DTSTART:20211107T090000
END:STANDARD
BEGIN:DAYLIGHT
TZOFFSETFROM:-0800
TZOFFSETTO:-0700
TZNAME:PDT
DTSTART:20220313T100000
END:DAYLIGHT
BEGIN:STANDARD
TZOFFSETFROM:-0700
TZOFFSETTO:-0800
TZNAME:PST
DTSTART:20221106T090000
END:STANDARD
BEGIN:DAYLIGHT
TZOFFSETFROM:-0800
TZOFFSETTO:-0700
TZNAME:PDT
DTSTART:20230312T100000
END:DAYLIGHT
BEGIN:STANDARD
TZOFFSETFROM:-0700
TZOFFSETTO:-0800
TZNAME:PST
DTSTART:20231105T090000
END:STANDARD
END:VTIMEZONE
BEGIN:VEVENT
DTSTART;VALUE=DATE:20220813
DTEND;VALUE=DATE:20220815
DTSTAMP:20260424T095253
CREATED:20220716T114613Z
LAST-MODIFIED:20220817T211751Z
UID:5272-1660348800-1660521599@dcseminars.com
SUMMARY:Diagnosis and Treatment of Whiplash
DESCRIPTION:Saturday: 9:00am – 5:00pm (Central Time)\nSunday: 9:00am – 5:00pm (Central Time) \nLive Webinar – 16 Hours \nCONTINUING EDUCATION NOTICE \nNOTE: This seminar is a LIVE webinar. Live webinars are accepted in Texas and other states for all or partial CE credit. \nDuring Covid\, many states are accepting online courses as LIVE CE courses. Please check with your state licensing agency. \nCE APPROVAL: This seminar has been approved for 16 hours of CE credit by the TBCE\, including the 4 required TBCE hours and 8 Medicare hours. \nThis seminar is accepted for CE credit in Colorado and all PACE approved states. Be sure to check your state board requirements. \nHOW MANY HOURS CAN I ATTEND?: You can take 4\, 8 or 16 hours. \nTo take less than the full seminar\, enter one of the following PROMO CODES: \n4 TBCE HOURS: FOUR \n8 HOURS:  EIGHT
URL:https://dcseminars.com/event/personal-injury-maximizing-reimbursement-with-proper-coding-documentation-081322/
CATEGORIES:Webinars
END:VEVENT
BEGIN:VEVENT
DTSTART;VALUE=DATE:20220820
DTEND;VALUE=DATE:20220822
DTSTAMP:20260424T095253
CREATED:20220716T114706Z
LAST-MODIFIED:20220817T211819Z
UID:5274-1660953600-1661126399@dcseminars.com
SUMMARY:Diagnosis and Treatment of Whiplash
DESCRIPTION:Saturday: 9:00am – 5:00pm (Central Time)\nSunday: 9:00am – 5:00pm (Central Time) \nLive Webinar – 16 Hours \nCONTINUING EDUCATION NOTICE \nNOTE: This seminar is a LIVE webinar. Live webinars are accepted in Texas and other states for all or partial CE credit. \nDuring Covid\, many states are accepting online courses as LIVE CE courses. Please check with your state licensing agency. \nCE APPROVAL: This seminar has been approved for 16 hours of CE credit by the TBCE\, including the 4 required TBCE hours and 8 Medicare hours. \nThis seminar is accepted for CE credit in Colorado and all PACE approved states. Be sure to check your state board requirements. \nHOW MANY HOURS CAN I ATTEND?: You can take 4\, 8 or 16 hours. \nTo take less than the full seminar\, enter one of the following PROMO CODES: \n4 TBCE HOURS: FOUR \n8 HOURS:  EIGHT
URL:https://dcseminars.com/event/personal-injury-maximizing-reimbursement-with-proper-coding-documentation-082022/
CATEGORIES:Webinars
END:VEVENT
BEGIN:VEVENT
DTSTART;VALUE=DATE:20220827
DTEND;VALUE=DATE:20220829
DTSTAMP:20260424T095253
CREATED:20220716T114725Z
LAST-MODIFIED:20220817T211842Z
UID:5275-1661558400-1661731199@dcseminars.com
SUMMARY:Diagnosis and Treatment of Whiplash
DESCRIPTION:Saturday: 9:00am – 5:00pm (Central Time)\nSunday: 9:00am – 5:00pm (Central Time) \nLive Webinar – 16 Hours \nCONTINUING EDUCATION NOTICE \nNOTE: This seminar is a LIVE webinar. Live webinars are accepted in Texas and other states for all or partial CE credit. \nDuring Covid\, many states are accepting online courses as LIVE CE courses. Please check with your state licensing agency. \nCE APPROVAL: This seminar has been approved for 16 hours of CE credit by the TBCE\, including the 4 required TBCE hours and 8 Medicare hours. \nThis seminar is accepted for CE credit in Colorado and all PACE approved states. Be sure to check your state board requirements. \nHOW MANY HOURS CAN I ATTEND?: You can take 4\, 8 or 16 hours. \nTo take less than the full seminar\, enter one of the following PROMO CODES: \n4 TBCE HOURS: FOUR \n8 HOURS:  EIGHT
URL:https://dcseminars.com/event/personal-injury-maximizing-reimbursement-with-proper-coding-documentation-082722/
CATEGORIES:Webinars
END:VEVENT
END:VCALENDAR