BEGIN:VCALENDAR
VERSION:2.0
PRODID:-//DC Seminars - ECPv6.15.20//NONSGML v1.0//EN
CALSCALE:GREGORIAN
METHOD:PUBLISH
X-WR-CALNAME:DC Seminars
X-ORIGINAL-URL:https://dcseminars.com
X-WR-CALDESC:Events for DC Seminars
REFRESH-INTERVAL;VALUE=DURATION:PT1H
X-Robots-Tag:noindex
X-PUBLISHED-TTL:PT1H
BEGIN:VTIMEZONE
TZID:UTC
BEGIN:STANDARD
TZOFFSETFROM:+0000
TZOFFSETTO:+0000
TZNAME:UTC
DTSTART:20230101T000000
END:STANDARD
END:VTIMEZONE
BEGIN:VEVENT
DTSTART;VALUE=DATE:20240511
DTEND;VALUE=DATE:20240513
DTSTAMP:20260424T081828
CREATED:20240422T185817Z
LAST-MODIFIED:20240422T185817Z
UID:11177-1715385600-1715558399@dcseminars.com
SUMMARY:Coding\, Compliance & Documentation in Chiropractic – (Live Webinar)
DESCRIPTION:Saturday – 9:00am – 6:00pm\nSunday – 9:00am – 6:00pm\n(Break for lunch at 1:00pm each day) \nSPEAKERS: John Schmidt\, DC \nCONTINUING EDUCATION NOTICE \nCE APPROVAL: This seminar has been applied for 16 hours of CE credit by the TBCE\, including the 4 required TBCE hours. This seminar is accepted for up to 16 hours of CE credit in all PACE state. \nCE LETTERS OF ATTENDANCE:  Letters of attendance for Texas doctors will be sent directly from the co-sponsor within 30 days. \nHOW MANY HOURS CAN I ATTEND: You can take 4\, 8 or 16 hours. To take less than the full seminar\, enter one of the following promo codes: \nPROMO CODE 4 TBCE HOURS ONLY: TBCE \nPROMO CODE FOR 6 HOURS ONLY: SIX \nPROMO CODE 8 HOURS ONLY: EIGHT \nCO-SPONSOR: The seminar is co-sponsored by the National Chiropractic Association (NCA).
URL:https://dcseminars.com/event/coding-compliance-documentation-in-chiropractic-051124/
LOCATION:TEst
CATEGORIES:Webinars
END:VEVENT
BEGIN:VEVENT
DTSTART;VALUE=DATE:20240518
DTEND;VALUE=DATE:20240520
DTSTAMP:20260424T081828
CREATED:20240422T190223Z
LAST-MODIFIED:20240422T190223Z
UID:11179-1715990400-1716163199@dcseminars.com
SUMMARY:Coding\, Compliance & Documentation in Chiropractic – (Live Webinar)
DESCRIPTION:Saturday – 9:00am – 6:00pm\nSunday – 9:00am – 6:00pm\n(Break for lunch at 1:00pm each day) \nSPEAKERS: John Schmidt\, DC \nCONTINUING EDUCATION NOTICE \nCE APPROVAL: This seminar has been applied for 16 hours of CE credit by the TBCE\, including the 4 required TBCE hours. This seminar is accepted for up to 16 hours of CE credit in all PACE state. \nCE LETTERS OF ATTENDANCE:  Letters of attendance for Texas doctors will be sent directly from the co-sponsor within 30 days. \nHOW MANY HOURS CAN I ATTEND: You can take 4\, 8 or 16 hours. To take less than the full seminar\, enter one of the following promo codes: \nPROMO CODE 4 TBCE HOURS ONLY: TBCE \nPROMO CODE FOR 6 HOURS ONLY: SIX \nPROMO CODE 8 HOURS ONLY: EIGHT \nCO-SPONSOR: The seminar is co-sponsored by the National Chiropractic Association (NCA).
URL:https://dcseminars.com/event/coding-compliance-documentation-in-chiropractic-051824/
LOCATION:TEst
CATEGORIES:Webinars
END:VEVENT
BEGIN:VEVENT
DTSTART;VALUE=DATE:20240525
DTEND;VALUE=DATE:20240527
DTSTAMP:20260424T081828
CREATED:20240422T190455Z
LAST-MODIFIED:20240422T190455Z
UID:11181-1716595200-1716767999@dcseminars.com
SUMMARY:Coding\, Compliance & Documentation in Chiropractic – (Live Webinar)
DESCRIPTION:Saturday – 9:00am – 6:00pm\nSunday – 9:00am – 6:00pm\n(Break for lunch at 1:00pm each day) \nSPEAKERS: John Schmidt\, DC \nCONTINUING EDUCATION NOTICE \nCE APPROVAL: This seminar has been applied for 16 hours of CE credit by the TBCE\, including the 4 required TBCE hours. This seminar is accepted for up to 16 hours of CE credit in all PACE state. \nCE LETTERS OF ATTENDANCE:  Letters of attendance for Texas doctors will be sent directly from the co-sponsor within 30 days. \nHOW MANY HOURS CAN I ATTEND: You can take 4\, 8 or 16 hours. To take less than the full seminar\, enter one of the following promo codes: \nPROMO CODE 4 TBCE HOURS ONLY: TBCE \nPROMO CODE FOR 6 HOURS ONLY: SIX \nPROMO CODE 8 HOURS ONLY: EIGHT \nCO-SPONSOR: The seminar is co-sponsored by the National Chiropractic Association (NCA).
URL:https://dcseminars.com/event/coding-compliance-documentation-in-chiropractic-052524/
LOCATION:TEst
CATEGORIES:Webinars
END:VEVENT
END:VCALENDAR