BEGIN:VCALENDAR
VERSION:2.0
PRODID:-//DC Seminars - ECPv6.15.20//NONSGML v1.0//EN
CALSCALE:GREGORIAN
METHOD:PUBLISH
X-ORIGINAL-URL:https://dcseminars.com
X-WR-CALDESC:Events for DC Seminars
REFRESH-INTERVAL;VALUE=DURATION:PT1H
X-Robots-Tag:noindex
X-PUBLISHED-TTL:PT1H
BEGIN:VTIMEZONE
TZID:UTC
BEGIN:STANDARD
TZOFFSETFROM:+0000
TZOFFSETTO:+0000
TZNAME:UTC
DTSTART:20230101T000000
END:STANDARD
END:VTIMEZONE
BEGIN:VEVENT
DTSTART;VALUE=DATE:20241109
DTEND;VALUE=DATE:20241111
DTSTAMP:20260423T214952
CREATED:20240905T211813Z
LAST-MODIFIED:20240905T211813Z
UID:11466-1731110400-1731283199@dcseminars.com
SUMMARY:Coding\, Compliance & Documentation in Chiropractic – (Live Webinar)
DESCRIPTION:Saturday – 9:00am – 6:00pm\nSunday – 9:00am – 6:00pm\n(Break for lunch at 1:00pm each day) \nSPEAKERS: John Schmidt\, DC \nCONTINUING EDUCATION NOTICE \nCE APPROVAL: This seminar has been applied for 16 hours of CE credit by the TBCE\, including the 4 required TBCE hours. This seminar is accepted for up to 16 hours of CE credit in all PACE state. \nCE LETTERS OF ATTENDANCE:  Letters of attendance for Texas doctors will be sent directly from the co-sponsor within 30 days. \nHOW MANY HOURS CAN I ATTEND: You can take 4\, 8 or 16 hours. To take less than the full seminar\, enter one of the following promo codes: \nPROMO CODE 4 TBCE HOURS ONLY: TBCE \nPROMO CODE FOR 6 HOURS ONLY: SIX \nPROMO CODE 8 HOURS ONLY: EIGHT \nCO-SPONSOR: The seminar is co-sponsored by the National Chiropractic Association (NCA).
URL:https://dcseminars.com/event/coding-compliance-documentation-in-chiropractic-110924/
LOCATION:TEst
CATEGORIES:Webinars
END:VEVENT
BEGIN:VEVENT
DTSTART;VALUE=DATE:20241116
DTEND;VALUE=DATE:20241118
DTSTAMP:20260423T214952
CREATED:20240905T212110Z
LAST-MODIFIED:20240905T212110Z
UID:11468-1731715200-1731887999@dcseminars.com
SUMMARY:Coding\, Compliance & Documentation in Chiropractic – (Live Webinar)
DESCRIPTION:Saturday – 9:00am – 6:00pm\nSunday – 9:00am – 6:00pm\n(Break for lunch at 1:00pm each day) \nSPEAKERS: John Schmidt\, DC \nCONTINUING EDUCATION NOTICE \nCE APPROVAL: This seminar has been applied for 16 hours of CE credit by the TBCE\, including the 4 required TBCE hours. This seminar is accepted for up to 16 hours of CE credit in all PACE state. \nCE LETTERS OF ATTENDANCE:  Letters of attendance for Texas doctors will be sent directly from the co-sponsor within 30 days. \nHOW MANY HOURS CAN I ATTEND: You can take 4\, 8 or 16 hours. To take less than the full seminar\, enter one of the following promo codes: \nPROMO CODE 4 TBCE HOURS ONLY: TBCE \nPROMO CODE FOR 6 HOURS ONLY: SIX \nPROMO CODE 8 HOURS ONLY: EIGHT \nCO-SPONSOR: The seminar is co-sponsored by the National Chiropractic Association (NCA).
URL:https://dcseminars.com/event/coding-compliance-documentation-in-chiropractic-111624/
LOCATION:TEst
CATEGORIES:Webinars
END:VEVENT
BEGIN:VEVENT
DTSTART;VALUE=DATE:20241123
DTEND;VALUE=DATE:20241125
DTSTAMP:20260423T214952
CREATED:20240905T212347Z
LAST-MODIFIED:20240905T212347Z
UID:11470-1732320000-1732492799@dcseminars.com
SUMMARY:Coding\, Compliance & Documentation in Chiropractic – (Live Webinar)
DESCRIPTION:Saturday – 9:00am – 6:00pm\nSunday – 9:00am – 6:00pm\n(Break for lunch at 1:00pm each day) \nSPEAKERS: John Schmidt\, DC \nCONTINUING EDUCATION NOTICE \nCE APPROVAL: This seminar has been applied for 16 hours of CE credit by the TBCE\, including the 4 required TBCE hours. This seminar is accepted for up to 16 hours of CE credit in all PACE state. \nCE LETTERS OF ATTENDANCE:  Letters of attendance for Texas doctors will be sent directly from the co-sponsor within 30 days. \nHOW MANY HOURS CAN I ATTEND: You can take 4\, 8 or 16 hours. To take less than the full seminar\, enter one of the following promo codes: \nPROMO CODE 4 TBCE HOURS ONLY: TBCE \nPROMO CODE FOR 6 HOURS ONLY: SIX \nPROMO CODE 8 HOURS ONLY: EIGHT \nCO-SPONSOR: The seminar is co-sponsored by the National Chiropractic Association (NCA).
URL:https://dcseminars.com/event/coding-compliance-documentation-in-chiropractic-112324/
LOCATION:TEst
CATEGORIES:Webinars
END:VEVENT
BEGIN:VEVENT
DTSTART;VALUE=DATE:20241130
DTEND;VALUE=DATE:20241202
DTSTAMP:20260423T214952
CREATED:20241127T175402Z
LAST-MODIFIED:20241127T175402Z
UID:11585-1732924800-1733097599@dcseminars.com
SUMMARY:Coding\, Compliance & Documentation in Chiropractic – (Live Webinar)
DESCRIPTION:Saturday – 9:00am – 6:00pm\nSunday – 9:00am – 6:00pm\n(Break for lunch at 1:00pm each day) \nSPEAKERS: John Schmidt\, DC \nCONTINUING EDUCATION NOTICE \nCE APPROVAL: This seminar has been applied for 16 hours of CE credit by the TBCE\, including the 4 required TBCE hours. This seminar is accepted for up to 16 hours of CE credit in all PACE state. \nCE LETTERS OF ATTENDANCE:  Letters of attendance for Texas doctors will be sent directly from the co-sponsor within 30 days. \nHOW MANY HOURS CAN I ATTEND: You can take 4\, 8 or 16 hours. To take less than the full seminar\, enter one of the following promo codes: \nPROMO CODE 4 TBCE HOURS ONLY: TBCE \nPROMO CODE FOR 6 HOURS ONLY: SIX \nPROMO CODE 8 HOURS ONLY: EIGHT \nCO-SPONSOR: The seminar is co-sponsored by the National Chiropractic Association (NCA).
URL:https://dcseminars.com/event/coding-compliance-documentation-in-chiropractic-113024/
LOCATION:TEst
CATEGORIES:Webinars
END:VEVENT
END:VCALENDAR