BEGIN:VCALENDAR
VERSION:2.0
PRODID:-//DC Seminars - ECPv6.15.20//NONSGML v1.0//EN
CALSCALE:GREGORIAN
METHOD:PUBLISH
X-WR-CALNAME:DC Seminars
X-ORIGINAL-URL:https://dcseminars.com
X-WR-CALDESC:Events for DC Seminars
REFRESH-INTERVAL;VALUE=DURATION:PT1H
X-Robots-Tag:noindex
X-PUBLISHED-TTL:PT1H
BEGIN:VTIMEZONE
TZID:UTC
BEGIN:STANDARD
TZOFFSETFROM:+0000
TZOFFSETTO:+0000
TZNAME:UTC
DTSTART:20240101T000000
END:STANDARD
END:VTIMEZONE
BEGIN:VEVENT
DTSTART;VALUE=DATE:20250412
DTEND;VALUE=DATE:20250414
DTSTAMP:20260423T132441
CREATED:20250310T204444Z
LAST-MODIFIED:20250320T194230Z
UID:11881-1744416000-1744588799@dcseminars.com
SUMMARY:Personal Injury: Documentation That Increases Case Values
DESCRIPTION:Saturday – 9:00am – 6:00pm\nSunday – 9:00am – 6:00pm\n(Break for lunch at 1:00pm each day) \nSPEAKERS: John Schmidt\, DC \nCONTINUING EDUCATION NOTICE \nCE APPROVAL: This seminar has been applied for 16 hours of CE credit by the TBCE\, including the 4 required TBCE hours and 8 hours in Medicare training. This seminar is accepted for up to 16 hours of CE credit in all PACE state. \nCE LETTERS OF ATTENDANCE:  Letters of attendance for Texas doctors will be sent directly from the co-sponsor within 30 days. \nHOW MANY HOURS CAN I ATTEND: You can take 4\, 8 or 16 hours. To take less than the full seminar\, enter one of the following promo codes: \nPROMO CODE 4 TBCE HOURS ONLY: TBCE \nPROMO CODE FOR 6 HOURS ONLY: SIX \nPROMO CODE 8 HOURS ONLY: EIGHT \nCO-SPONSOR: The seminar is co-sponsored by the National Chiropractic Association (NCA).
URL:https://dcseminars.com/event/coding-compliance-documentation-in-chiropractic-live-webinar-041225/
LOCATION:TEst
CATEGORIES:Webinars
END:VEVENT
BEGIN:VEVENT
DTSTART;VALUE=DATE:20250418
DTEND;VALUE=DATE:20250420
DTSTAMP:20260423T132441
CREATED:20250310T204849Z
LAST-MODIFIED:20250320T194207Z
UID:11884-1744934400-1745107199@dcseminars.com
SUMMARY:Personal Injury: Documentation That Increases Case Values
DESCRIPTION:Day 1 – 9:00am – 6:00pm (Central Time) \nDay 2 – 9:00am – 6:00pm (Central Time)\n(Break for lunch at 1:00pm each day) \nSPEAKERS: John Schmidt\, DC \nCONTINUING EDUCATION NOTICE \nCE APPROVAL: This seminar has been applied for 16 hours of CE credit by the TBCE\, including the 4 required TBCE hours and 8 hours in Medicare training. This seminar is accepted for up to 16 hours of CE credit in all PACE state. \nCE LETTERS OF ATTENDANCE:  Letters of attendance for Texas doctors will be sent directly from the co-sponsor within 30 days. \nHOW MANY HOURS CAN I ATTEND: You can take 4\, 8 or 16 hours. To take less than the full seminar\, enter one of the following promo codes: \nPROMO CODE 4 TBCE HOURS ONLY: TBCE \nPROMO CODE FOR 6 HOURS ONLY: SIX \nPROMO CODE 8 HOURS ONLY: EIGHT \nCO-SPONSOR: The seminar is co-sponsored by the National Chiropractic Association (NCA).
URL:https://dcseminars.com/event/coding-compliance-documentation-in-chiropractic-live-webinar-041925/
LOCATION:TEst
CATEGORIES:Webinars
END:VEVENT
BEGIN:VEVENT
DTSTART;VALUE=DATE:20250426
DTEND;VALUE=DATE:20250428
DTSTAMP:20260423T132441
CREATED:20250310T205108Z
LAST-MODIFIED:20250320T194143Z
UID:11886-1745625600-1745798399@dcseminars.com
SUMMARY:Personal Injury: Documentation That Increases Case Values
DESCRIPTION:Saturday – 9:00am – 6:00pm\nSunday – 9:00am – 6:00pm\n(Break for lunch at 1:00pm each day) \nSPEAKERS: John Schmidt\, DC \nCONTINUING EDUCATION NOTICE \nCE APPROVAL: This seminar has been applied for 16 hours of CE credit by the TBCE\, including the 4 required TBCE hours and 8 hours in Medicare training. This seminar is accepted for up to 16 hours of CE credit in all PACE state. \nCE LETTERS OF ATTENDANCE:  Letters of attendance for Texas doctors will be sent directly from the co-sponsor within 30 days. \nHOW MANY HOURS CAN I ATTEND: You can take 4\, 8 or 16 hours. To take less than the full seminar\, enter one of the following promo codes: \nPROMO CODE 4 TBCE HOURS ONLY: TBCE \nPROMO CODE FOR 6 HOURS ONLY: SIX \nPROMO CODE 8 HOURS ONLY: EIGHT \nCO-SPONSOR: The seminar is co-sponsored by the National Chiropractic Association (NCA).
URL:https://dcseminars.com/event/coding-compliance-documentation-in-chiropractic-live-webinar-042625/
LOCATION:TEst
CATEGORIES:Webinars
END:VEVENT
END:VCALENDAR