BEGIN:VCALENDAR
VERSION:2.0
PRODID:-//DC Seminars - ECPv6.15.20//NONSGML v1.0//EN
CALSCALE:GREGORIAN
METHOD:PUBLISH
X-WR-CALNAME:DC Seminars
X-ORIGINAL-URL:https://dcseminars.com
X-WR-CALDESC:Events for DC Seminars
REFRESH-INTERVAL;VALUE=DURATION:PT1H
X-Robots-Tag:noindex
X-PUBLISHED-TTL:PT1H
BEGIN:VTIMEZONE
TZID:UTC
BEGIN:STANDARD
TZOFFSETFROM:+0000
TZOFFSETTO:+0000
TZNAME:UTC
DTSTART:20240101T000000
END:STANDARD
END:VTIMEZONE
BEGIN:VEVENT
DTSTART;VALUE=DATE:20250510
DTEND;VALUE=DATE:20250512
DTSTAMP:20260423T113526
CREATED:20250421T222738Z
LAST-MODIFIED:20250422T152827Z
UID:11964-1746835200-1747007999@dcseminars.com
SUMMARY:Personal Injury: Documentation That Increases Case Values
DESCRIPTION:Saturday – 9:00am – 6:00pm\nSunday – 9:00am – 6:00pm\n(Break for lunch at 1:00pm each day) \nSPEAKERS: John Schmidt\, DC \nCONTINUING EDUCATION NOTICE \nCE APPROVAL: This seminar has been applied for 16 hours of CE credit by the TBCE\, including the 4 required TBCE hours and 8 hours in Medicare training. This seminar is accepted for up to 16 hours of CE credit in all PACE state. \nCE LETTERS OF ATTENDANCE:  Letters of attendance for Texas doctors will be sent directly from the co-sponsor within 30 days. \nHOW MANY HOURS CAN I ATTEND: You can take 4\, 8 or 16 hours. To take less than the full seminar\, enter one of the following promo codes: \nPROMO CODE 4 TBCE HOURS ONLY: TBCE \nPROMO CODE FOR 6 HOURS ONLY: SIX \nPROMO CODE 8 HOURS ONLY: EIGHT \nCO-SPONSOR: The seminar is co-sponsored by the National Chiropractic Association (NCA).
URL:https://dcseminars.com/event/coding-compliance-documentation-in-chiropractic-live-webinar-051025/
LOCATION:TEst
CATEGORIES:Webinars
END:VEVENT
BEGIN:VEVENT
DTSTART;VALUE=DATE:20250517
DTEND;VALUE=DATE:20250519
DTSTAMP:20260423T113526
CREATED:20250421T223106Z
LAST-MODIFIED:20250422T152831Z
UID:11966-1747440000-1747612799@dcseminars.com
SUMMARY:Personal Injury: Documentation That Increases Case Values
DESCRIPTION:Saturday – 9:00am – 6:00pm\nSunday – 9:00am – 6:00pm\n(Break for lunch at 1:00pm each day) \nSPEAKERS: John Schmidt\, DC \nCONTINUING EDUCATION NOTICE \nCE APPROVAL: This seminar has been applied for 16 hours of CE credit by the TBCE\, including the 4 required TBCE hours and 8 hours in Medicare training. This seminar is accepted for up to 16 hours of CE credit in all PACE state. \nCE LETTERS OF ATTENDANCE:  Letters of attendance for Texas doctors will be sent directly from the co-sponsor within 30 days. \nHOW MANY HOURS CAN I ATTEND: You can take 4\, 8 or 16 hours. To take less than the full seminar\, enter one of the following promo codes: \nPROMO CODE 4 TBCE HOURS ONLY: TBCE \nPROMO CODE FOR 6 HOURS ONLY: SIX \nPROMO CODE 8 HOURS ONLY: EIGHT \nCO-SPONSOR: The seminar is co-sponsored by the National Chiropractic Association (NCA).
URL:https://dcseminars.com/event/coding-compliance-documentation-in-chiropractic-live-webinar-051725/
LOCATION:TEst
CATEGORIES:Webinars
END:VEVENT
BEGIN:VEVENT
DTSTART;VALUE=DATE:20250524
DTEND;VALUE=DATE:20250526
DTSTAMP:20260423T113526
CREATED:20250421T223402Z
LAST-MODIFIED:20250422T152835Z
UID:11968-1748044800-1748217599@dcseminars.com
SUMMARY:Personal Injury: Documentation That Increases Case Values
DESCRIPTION:Saturday – 9:00am – 6:00pm\nSunday – 9:00am – 6:00pm\n(Break for lunch at 1:00pm each day) \nSPEAKERS: John Schmidt\, DC \nCONTINUING EDUCATION NOTICE \nCE APPROVAL: This seminar has been applied for 16 hours of CE credit by the TBCE\, including the 4 required TBCE hours and 8 hours in Medicare training. This seminar is accepted for up to 16 hours of CE credit in all PACE state. \nCE LETTERS OF ATTENDANCE:  Letters of attendance for Texas doctors will be sent directly from the co-sponsor within 30 days. \nHOW MANY HOURS CAN I ATTEND: You can take 4\, 8 or 16 hours. To take less than the full seminar\, enter one of the following promo codes: \nPROMO CODE 4 TBCE HOURS ONLY: TBCE \nPROMO CODE FOR 6 HOURS ONLY: SIX \nPROMO CODE 8 HOURS ONLY: EIGHT \nCO-SPONSOR: The seminar is co-sponsored by the National Chiropractic Association (NCA).
URL:https://dcseminars.com/event/coding-compliance-documentation-in-chiropractic-live-webinar-052425/
LOCATION:TEst
CATEGORIES:Webinars
END:VEVENT
BEGIN:VEVENT
DTSTART;VALUE=DATE:20250530
DTEND;VALUE=DATE:20250601
DTSTAMP:20260423T113526
CREATED:20250421T223618Z
LAST-MODIFIED:20250422T152839Z
UID:11970-1748563200-1748735999@dcseminars.com
SUMMARY:Personal Injury: Documentation That Increases Case Values
DESCRIPTION:Saturday – 9:00am – 6:00pm\nSunday – 9:00am – 6:00pm\n(Break for lunch at 1:00pm each day) \nSPEAKERS: John Schmidt\, DC \nCONTINUING EDUCATION NOTICE \nCE APPROVAL: This seminar has been applied for 16 hours of CE credit by the TBCE\, including the 4 required TBCE hours and 8 hours in Medicare training. This seminar is accepted for up to 16 hours of CE credit in all PACE state. \nCE LETTERS OF ATTENDANCE:  Letters of attendance for Texas doctors will be sent directly from the co-sponsor within 30 days. \nHOW MANY HOURS CAN I ATTEND: You can take 4\, 8 or 16 hours. To take less than the full seminar\, enter one of the following promo codes: \nPROMO CODE 4 TBCE HOURS ONLY: TBCE \nPROMO CODE FOR 6 HOURS ONLY: SIX \nPROMO CODE 8 HOURS ONLY: EIGHT \nCO-SPONSOR: The seminar is co-sponsored by the National Chiropractic Association (NCA).
URL:https://dcseminars.com/event/coding-compliance-documentation-in-chiropractic-live-webinar-053025/
LOCATION:TEst
CATEGORIES:Webinars
END:VEVENT
END:VCALENDAR