BEGIN:VCALENDAR
VERSION:2.0
PRODID:-//DC Seminars - ECPv6.15.20//NONSGML v1.0//EN
CALSCALE:GREGORIAN
METHOD:PUBLISH
X-WR-CALNAME:DC Seminars
X-ORIGINAL-URL:https://dcseminars.com
X-WR-CALDESC:Events for DC Seminars
REFRESH-INTERVAL;VALUE=DURATION:PT1H
X-Robots-Tag:noindex
X-PUBLISHED-TTL:PT1H
BEGIN:VTIMEZONE
TZID:UTC
BEGIN:STANDARD
TZOFFSETFROM:+0000
TZOFFSETTO:+0000
TZNAME:UTC
DTSTART:20250101T000000
END:STANDARD
END:VTIMEZONE
BEGIN:VEVENT
DTSTART;VALUE=DATE:20260516
DTEND;VALUE=DATE:20260518
DTSTAMP:20260420T172622
CREATED:20260413T205205Z
LAST-MODIFIED:20260413T205328Z
UID:18900-1778889600-1779062399@dcseminars.com
SUMMARY:Coding\, Compliance & Documentation in Chiropractic
DESCRIPTION:Saturday – 9:00am – 6:00pm\nSunday – 9:00am – 6:00pm\n(Break for lunch at 1:00pm each day) \nSPEAKERS: John Schmidt\, DC \nCONTINUING EDUCATION NOTICE \nCE APPROVAL: This seminar has been applied for 16 hours of CE credit by the TBCE\, including the 4 required TBCE hours and 8 hours in Medicare training. This seminar is accepted for up to 16 hours of CE credit in all PACE state. \nCE LETTERS OF ATTENDANCE:  Letters of attendance for Texas doctors will be sent directly from the co-sponsor within 30 days. \nHOW MANY HOURS CAN I ATTEND: You can take 4\, 8 or 16 hours. To take less than the full seminar\, enter one of the following promo codes: \nPROMO CODE 4 TBCE HOURS ONLY: TBCE \nPROMO CODE FOR 6 HOURS ONLY: SIX \nPROMO CODE 8 HOURS ONLY: EIGHT \nCO-SPONSOR: The seminar is co-sponsored by the National Chiropractic Association (NCA).
URL:https://dcseminars.com/event/coding-compliance-documentation-in-chiropractic-live-webinar-051626/
LOCATION:TEst
CATEGORIES:Webinars
END:VEVENT
BEGIN:VEVENT
DTSTART;VALUE=DATE:20260523
DTEND;VALUE=DATE:20260525
DTSTAMP:20260420T172622
CREATED:20260413T205529Z
LAST-MODIFIED:20260413T205635Z
UID:18902-1779494400-1779667199@dcseminars.com
SUMMARY:Coding\, Compliance & Documentation in Chiropractic
DESCRIPTION:Saturday – 9:00am – 6:00pm\nSunday – 9:00am – 6:00pm\n(Break for lunch at 1:00pm each day) \nSPEAKERS: John Schmidt\, DC \nCONTINUING EDUCATION NOTICE \nCE APPROVAL: This seminar has been applied for 16 hours of CE credit by the TBCE\, including the 4 required TBCE hours and 8 hours in Medicare training. This seminar is accepted for up to 16 hours of CE credit in all PACE state. \nCE LETTERS OF ATTENDANCE:  Letters of attendance for Texas doctors will be sent directly from the co-sponsor within 30 days. \nHOW MANY HOURS CAN I ATTEND: You can take 4\, 8 or 16 hours. To take less than the full seminar\, enter one of the following promo codes: \nPROMO CODE 4 TBCE HOURS ONLY: TBCE \nPROMO CODE FOR 6 HOURS ONLY: SIX \nPROMO CODE 8 HOURS ONLY: EIGHT \nCO-SPONSOR: The seminar is co-sponsored by the National Chiropractic Association (NCA).
URL:https://dcseminars.com/event/coding-compliance-documentation-in-chiropractic-live-webinar-052326/
LOCATION:TEst
CATEGORIES:Webinars
END:VEVENT
BEGIN:VEVENT
DTSTART;VALUE=DATE:20260530
DTEND;VALUE=DATE:20260601
DTSTAMP:20260420T172622
CREATED:20260413T205820Z
LAST-MODIFIED:20260413T205918Z
UID:18904-1780099200-1780271999@dcseminars.com
SUMMARY:Coding\, Compliance & Documentation in Chiropractic
DESCRIPTION:Saturday – 9:00am – 6:00pm\nSunday – 9:00am – 6:00pm\n(Break for lunch at 1:00pm each day) \nSPEAKERS: John Schmidt\, DC \nCONTINUING EDUCATION NOTICE \nCE APPROVAL: This seminar has been applied for 16 hours of CE credit by the TBCE\, including the 4 required TBCE hours and 8 hours in Medicare training. This seminar is accepted for up to 16 hours of CE credit in all PACE state. \nCE LETTERS OF ATTENDANCE:  Letters of attendance for Texas doctors will be sent directly from the co-sponsor within 30 days. \nHOW MANY HOURS CAN I ATTEND: You can take 4\, 8 or 16 hours. To take less than the full seminar\, enter one of the following promo codes: \nPROMO CODE 4 TBCE HOURS ONLY: TBCE \nPROMO CODE FOR 6 HOURS ONLY: SIX \nPROMO CODE 8 HOURS ONLY: EIGHT \nCO-SPONSOR: The seminar is co-sponsored by the National Chiropractic Association (NCA).
URL:https://dcseminars.com/event/coding-compliance-documentation-in-chiropractic-live-webinar-053026/
LOCATION:TEst
CATEGORIES:Webinars
END:VEVENT
END:VCALENDAR